BEGIN:VCALENDAR
VERSION:2.0
PRODID:-//wp-events-plugin.com//7.2.3.1//EN
TZID:Europe/Berlin
X-WR-TIMEZONE:Europe/Berlin
BEGIN:VEVENT
UID:170@freiwillige-feuerwehr-weinaehr.de
DTSTART;TZID=Europe/Berlin:20231014T080000
DTEND;TZID=Europe/Berlin:20231014T140000
DTSTAMP:20231009T145421Z
URL:https://freiwillige-feuerwehr-weinaehr.de/termine/tel-grossuebung-des-
 kat-schutz-rlk-bei-zschimmer-schwarz-in-lahnstein/
SUMMARY:[TEL] Großübung des Kat-Schutz RLK bei Zschimmer & Schwarz in Lah
 nstein
DESCRIPTION:
END:VEVENT
BEGIN:VTIMEZONE
TZID:Europe/Berlin
X-LIC-LOCATION:Europe/Berlin
BEGIN:DAYLIGHT
DTSTART:20230326T030000
TZOFFSETFROM:+0100
TZOFFSETTO:+0200
TZNAME:CEST
END:DAYLIGHT
END:VTIMEZONE
END:VCALENDAR